BEGIN:VCALENDAR
VERSION:2.0
PRODID:-//Financial Services of America - ECPv6.15.20//NONSGML v1.0//EN
CALSCALE:GREGORIAN
METHOD:PUBLISH
X-WR-CALNAME:Financial Services of America
X-ORIGINAL-URL:https://fsa1.com
X-WR-CALDESC:Events for Financial Services of America
REFRESH-INTERVAL;VALUE=DURATION:PT1H
X-Robots-Tag:noindex
X-PUBLISHED-TTL:PT1H
BEGIN:VTIMEZONE
TZID:UTC
BEGIN:STANDARD
TZOFFSETFROM:+0000
TZOFFSETTO:+0000
TZNAME:UTC
DTSTART:20250101T000000
END:STANDARD
END:VTIMEZONE
BEGIN:VEVENT
DTSTART;TZID=UTC:20260422T183000
DTEND;TZID=UTC:20260422T203000
DTSTAMP:20260422T061326
CREATED:20260211T162954Z
LAST-MODIFIED:20260409T140011Z
UID:10001719-1776882600-1776889800@fsa1.com
SUMMARY:Taxes in Retirement at Fishbones - St Clair Shores\, MI
DESCRIPTION:Retirement Planning Workshop 				\n				\n										\n						\n									RESERVE YOUR SEAT HERE\n					\n					\n								\n				\n									Seating is limited! Reservations are required. 								\n				\n							\n			\n						\n		\n						\n				\n					Join a complimentary educational workshop designed to help you better understand how key retirement decisions work together. 				\n					\n		\n					\n		\n				\n						\n					\n			\n						\n					5th Tavern | May 19th & May 21st				\n				\n							\n					\n						\n					\n		\n				\n			\n						\n					Location				\n				\n									5th Tavern7228 N Main StVillage of Clarkston\, MI 48346 								\n				\n					Date & Time				\n				\n									Tuesday\, May 19th at 6:30 pmThursday\, May 21st at 6:30 pm 								\n					\n		\n					\n		\n				\n						\n					\n			\n						\n							\n						\n				\n					Sign Up Below				\n				\n							\n\n                \n                        CommentsThis field is for validation purposes and should be left unchanged.Name(Required)\n                            \n                            \n                                                    \n                                                    First\n                                                \n                            \n                            \n                                                    \n                                                    Last\n                                                \n                            \n                        Phone(Required)Email(Required)\n                            \n                        Zip Code(Required)Zip CodeSeminar Dates(Required)\n			\n					\n					Monday\, March 23rd at 6:30pm\n			\n			\n					\n					Wednesday\, March 25th at 6:30pm\n			Will you be bringing a guest?(Required)\n			\n					\n					Yes\n			\n			\n					\n					No\n			Relationship\n			\n					\n					Spouse / Significant Other\n			\n			\n					\n					Family Member / Friend / Colleague\n			Guest Name\n                            \n                            \n                                                    \n                                                    First\n                                                \n                            \n                            \n                                                    \n                                                    Last
URL:https://fsa1.com/fishbones
LOCATION:Fishbones\, 23722 Jefferson Ave\, St Clair Shores\, MI\, 48080\, United States
CATEGORIES:Seminar
ATTACH;FMTTYPE=image/png:https://fsa1.com/wp-content/uploads/2025/10/ImageStudio_upscale_1-2-e1771363453321.png
END:VEVENT
END:VCALENDAR