BEGIN:VCALENDAR
VERSION:2.0
PRODID:-//Financial Services of America - ECPv6.15.20//NONSGML v1.0//EN
CALSCALE:GREGORIAN
METHOD:PUBLISH
X-ORIGINAL-URL:https://fsa1.com
X-WR-CALDESC:Events for Financial Services of America
REFRESH-INTERVAL;VALUE=DURATION:PT1H
X-Robots-Tag:noindex
X-PUBLISHED-TTL:PT1H
BEGIN:VTIMEZONE
TZID:UTC
BEGIN:STANDARD
TZOFFSETFROM:+0000
TZOFFSETTO:+0000
TZNAME:UTC
DTSTART:20250101T000000
END:STANDARD
END:VTIMEZONE
BEGIN:VEVENT
DTSTART;TZID=UTC:20260507T183000
DTEND;TZID=UTC:20260507T203000
DTSTAMP:20260423T164355
CREATED:20260415T203711Z
LAST-MODIFIED:20260415T203711Z
UID:10001763-1778178600-1778185800@fsa1.com
SUMMARY:Taxes in Retirement at White Horse Inn - Metamora\, MI
DESCRIPTION:Retirement Planning Workshop 				\n				\n										\n						\n									RESERVE YOUR SEAT HERE\n					\n					\n								\n				\n									Seating is limited! Reservations are required. 								\n				\n							\n			\n						\n		\n						\n				\n					Join a complimentary educational workshop designed to help you better understand how key retirement decisions work together. 				\n					\n		\n					\n		\n				\n						\n					\n			\n						\n					5th Tavern | May 19th & May 21st				\n				\n							\n					\n						\n					\n		\n				\n			\n						\n					Location				\n				\n									5th Tavern7228 N Main StVillage of Clarkston\, MI 48346 								\n				\n					Date & Time				\n				\n									Tuesday\, May 19th at 6:30 pmThursday\, May 21st at 6:30 pm 								\n					\n		\n					\n		\n				\n						\n					\n			\n						\n							\n						\n				\n					Sign Up Below				\n				\n							\n\n                \n                        CommentsThis field is for validation purposes and should be left unchanged.Name(Required)\n                            \n                            \n                                                    \n                                                    First\n                                                \n                            \n                            \n                                                    \n                                                    Last\n                                                \n                            \n                        Phone(Required)Email(Required)\n                            \n                        Zip Code(Required)Zip CodeSeminar Dates(Required)\n			\n					\n					Monday\, March 23rd at 6:30pm\n			\n			\n					\n					Wednesday\, March 25th at 6:30pm\n			Will you be bringing a guest?(Required)\n			\n					\n					Yes\n			\n			\n					\n					No\n			Relationship\n			\n					\n					Spouse / Significant Other\n			\n			\n					\n					Family Member / Friend / Colleague\n			Guest Name\n                            \n                            \n                                                    \n                                                    First\n                                                \n                            \n                            \n                                                    \n                                                    Last
URL:https://fsa1.com/whitehorse
LOCATION:White Horse Inn\, 1 E High St\, Metamora\, 48455
CATEGORIES:Seminar
ATTACH;FMTTYPE=image/jpeg:https://fsa1.com/wp-content/uploads/2023/02/white-horse-inn.jpg
END:VEVENT
BEGIN:VEVENT
DTSTART;TZID=UTC:20260507T183000
DTEND;TZID=UTC:20260507T203000
DTSTAMP:20260423T164355
CREATED:20260420T190838Z
LAST-MODIFIED:20260420T190838Z
UID:10001768-1778178600-1778185800@fsa1.com
SUMMARY:Taxes in Retirement at Fleming's Prime Steakhouse - Livonia\, MI
DESCRIPTION:Retirement Planning Workshop 				\n				\n										\n						\n									RESERVE YOUR SEAT HERE\n					\n					\n								\n				\n									Seating is limited! Reservations are required. 								\n				\n							\n			\n						\n		\n						\n				\n					Join a complimentary educational workshop designed to help you better understand how key retirement decisions work together. 				\n					\n		\n					\n		\n				\n						\n					\n			\n						\n					5th Tavern | May 19th & May 21st				\n				\n							\n					\n						\n					\n		\n				\n			\n						\n					Location				\n				\n									5th Tavern7228 N Main StVillage of Clarkston\, MI 48346 								\n				\n					Date & Time				\n				\n									Tuesday\, May 19th at 6:30 pmThursday\, May 21st at 6:30 pm 								\n					\n		\n					\n		\n				\n						\n					\n			\n						\n							\n						\n				\n					Sign Up Below				\n				\n							\n                \n                        X/TwitterThis field is for validation purposes and should be left unchanged.Name(Required)\n                            \n                            \n                                                    \n                                                    First\n                                                \n                            \n                            \n                                                    \n                                                    Last\n                                                \n                            \n                        Phone(Required)Email(Required)\n                            \n                        Zip Code(Required)Zip CodeSeminar Dates(Required)\n			\n					\n					Monday\, March 23rd at 6:30pm\n			\n			\n					\n					Wednesday\, March 25th at 6:30pm\n			Will you be bringing a guest?(Required)\n			\n					\n					Yes\n			\n			\n					\n					No\n			Relationship\n			\n					\n					Spouse / Significant Other\n			\n			\n					\n					Family Member / Friend / Colleague\n			Guest Name\n                            \n                            \n                                                    \n                                                    First\n                                                \n                            \n                            \n                                                    \n                                                    Last
URL:https://fsa1.com/flemings
LOCATION:Flemings Livonia\, 17400 Haggerty Rd\, Livonia\, MI\, 48152
CATEGORIES:Event
ATTACH;FMTTYPE=image/png:https://fsa1.com/wp-content/uploads/2026/04/ChatGPT-Image-Apr-20-2026-03_03_03-PM.png
END:VEVENT
END:VCALENDAR