BEGIN:VCALENDAR
VERSION:2.0
PRODID:-//Financial Services of America - ECPv6.15.20//NONSGML v1.0//EN
CALSCALE:GREGORIAN
METHOD:PUBLISH
X-ORIGINAL-URL:https://fsa1.com
X-WR-CALDESC:Events for Financial Services of America
REFRESH-INTERVAL;VALUE=DURATION:PT1H
X-Robots-Tag:noindex
X-PUBLISHED-TTL:PT1H
BEGIN:VTIMEZONE
TZID:UTC
BEGIN:STANDARD
TZOFFSETFROM:+0000
TZOFFSETTO:+0000
TZNAME:UTC
DTSTART:20250101T000000
END:STANDARD
END:VTIMEZONE
BEGIN:VEVENT
DTSTART;TZID=UTC:20260310T183000
DTEND;TZID=UTC:20260310T203000
DTSTAMP:20260423T144543
CREATED:20250930T143651Z
LAST-MODIFIED:20260216T174850Z
UID:10001644-1773167400-1773174600@fsa1.com
SUMMARY:Taxes in Retirement at LUCE - Livonia\, MI
DESCRIPTION:Retirement Planning Workshop 				\n				\n										\n						\n									RESERVE YOUR SEAT HERE\n					\n					\n								\n				\n									Seating is limited! Reservations are required. 								\n				\n							\n			\n						\n		\n						\n				\n					Join a complimentary educational workshop designed to help you better understand how key retirement decisions work together. 				\n					\n		\n					\n		\n				\n						\n					\n			\n						\n					5th Tavern | May 19th & May 21st				\n				\n							\n					\n						\n					\n		\n				\n			\n						\n					Location				\n				\n									5th Tavern7228 N Main StVillage of Clarkston\, MI 48346 								\n				\n					Date & Time				\n				\n									Tuesday\, May 19th at 6:30 pmThursday\, May 21st at 6:30 pm 								\n					\n		\n					\n		\n				\n						\n					\n			\n						\n							\n						\n				\n					Sign Up Below				\n				\n							\n\n                \n                        PhoneThis field is for validation purposes and should be left unchanged.Name(Required)\n                            \n                            \n                                                    \n                                                    First\n                                                \n                            \n                            \n                                                    \n                                                    Last\n                                                \n                            \n                        Phone(Required)Email(Required)\n                            \n                        Zip Code(Required)Zip CodeSeminar Dates(Required)\n			\n					\n					Monday\, March 23rd at 6:30pm\n			\n			\n					\n					Wednesday\, March 25th at 6:30pm\n			Will you be bringing a guest?(Required)\n			\n					\n					Yes\n			\n			\n					\n					No\n			Relationship\n			\n					\n					Spouse / Significant Other\n			\n			\n					\n					Family Member / Friend / Colleague\n			Guest Name\n                            \n                            \n                                                    \n                                                    First\n                                                \n                            \n                            \n                                                    \n                                                    Last
URL:https://fsa1.com/luce
LOCATION:Andiamo Livonia\, 38703 W Seven Mile Rd\, Livonia\, MI\, 48152\, United States
CATEGORIES:Event
ATTACH;FMTTYPE=image/jpeg:https://fsa1.com/wp-content/uploads/2023/08/video_poster.jpg
END:VEVENT
BEGIN:VEVENT
DTSTART;TZID=UTC:20260317T183000
DTEND;TZID=UTC:20260317T203000
DTSTAMP:20260423T144543
CREATED:20260212T155919Z
LAST-MODIFIED:20260227T195652Z
UID:10001725-1773772200-1773779400@fsa1.com
SUMMARY:Taxes in Retirement at Weber's - Ann Arbor\, MI
DESCRIPTION:Retirement Planning Workshop 				\n				\n										\n						\n									RESERVE YOUR SEAT HERE\n					\n					\n								\n				\n									Seating is limited! Reservations are required. 								\n				\n							\n			\n						\n		\n						\n				\n					Join a complimentary educational workshop designed to help you better understand how key retirement decisions work together. 				\n					\n		\n					\n		\n				\n						\n					\n			\n						\n					5th Tavern | May 19th & May 21st				\n				\n							\n					\n						\n					\n		\n				\n			\n						\n					Location				\n				\n									5th Tavern7228 N Main StVillage of Clarkston\, MI 48346 								\n				\n					Date & Time				\n				\n									Tuesday\, May 19th at 6:30 pmThursday\, May 21st at 6:30 pm 								\n					\n		\n					\n		\n				\n						\n					\n			\n						\n							\n						\n				\n					Sign Up Below				\n				\n							\n                \n                        FacebookThis field is for validation purposes and should be left unchanged.Name(Required)\n                            \n                            \n                                                    \n                                                    First\n                                                \n                            \n                            \n                                                    \n                                                    Last\n                                                \n                            \n                        Phone(Required)Email(Required)\n                            \n                        Zip Code(Required)Zip CodeSeminar Dates(Required)\n			\n					\n					Monday\, March 23rd at 6:30pm\n			\n			\n					\n					Wednesday\, March 25th at 6:30pm\n			Will you be bringing a guest?(Required)\n			\n					\n					Yes\n			\n			\n					\n					No\n			Relationship\n			\n					\n					Spouse / Significant Other\n			\n			\n					\n					Family Member / Friend / Colleague\n			Guest Name\n                            \n                            \n                                                    \n                                                    First\n                                                \n                            \n                            \n                                                    \n                                                    Last
URL:https://fsa1.com/webers
LOCATION:Weber’s\, 3050 Jackson Rd\, Ann Arbor\, 48103
CATEGORIES:Seminar
ATTACH;FMTTYPE=image/jpeg:https://fsa1.com/wp-content/uploads/2026/02/Webers-HW_F76F4945-5056-A36A-0610701F41CBBE62-f76f482b5056a36_f76f49a7-5056-a36a-06e7fadd90cf9ce9.jpg
END:VEVENT
BEGIN:VEVENT
DTSTART;TZID=UTC:20260319T183000
DTEND;TZID=UTC:20260319T203000
DTSTAMP:20260423T144543
CREATED:20260227T195850Z
LAST-MODIFIED:20260227T195850Z
UID:10001737-1773945000-1773952200@fsa1.com
SUMMARY:Taxes in Retirement at Weber's - Ann Arbor\, MI
DESCRIPTION:Retirement Planning Workshop 				\n				\n										\n						\n									RESERVE YOUR SEAT HERE\n					\n					\n								\n				\n									Seating is limited! Reservations are required. 								\n				\n							\n			\n						\n		\n						\n				\n					Join a complimentary educational workshop designed to help you better understand how key retirement decisions work together. 				\n					\n		\n					\n		\n				\n						\n					\n			\n						\n					5th Tavern | May 19th & May 21st				\n				\n							\n					\n						\n					\n		\n				\n			\n						\n					Location				\n				\n									5th Tavern7228 N Main StVillage of Clarkston\, MI 48346 								\n				\n					Date & Time				\n				\n									Tuesday\, May 19th at 6:30 pmThursday\, May 21st at 6:30 pm 								\n					\n		\n					\n		\n				\n						\n					\n			\n						\n							\n						\n				\n					Sign Up Below				\n				\n							\n                \n                        CommentsThis field is for validation purposes and should be left unchanged.Name(Required)\n                            \n                            \n                                                    \n                                                    First\n                                                \n                            \n                            \n                                                    \n                                                    Last\n                                                \n                            \n                        Phone(Required)Email(Required)\n                            \n                        Zip Code(Required)Zip CodeSeminar Dates(Required)\n			\n					\n					Monday\, March 23rd at 6:30pm\n			\n			\n					\n					Wednesday\, March 25th at 6:30pm\n			Will you be bringing a guest?(Required)\n			\n					\n					Yes\n			\n			\n					\n					No\n			Relationship\n			\n					\n					Spouse / Significant Other\n			\n			\n					\n					Family Member / Friend / Colleague\n			Guest Name\n                            \n                            \n                                                    \n                                                    First\n                                                \n                            \n                            \n                                                    \n                                                    Last
URL:https://fsa1.com/webers
LOCATION:Weber’s\, 3050 Jackson Rd\, Ann Arbor\, 48103
CATEGORIES:Seminar
ATTACH;FMTTYPE=image/jpeg:https://fsa1.com/wp-content/uploads/2026/02/Webers-HW_F76F4945-5056-A36A-0610701F41CBBE62-f76f482b5056a36_f76f49a7-5056-a36a-06e7fadd90cf9ce9.jpg
END:VEVENT
BEGIN:VEVENT
DTSTART;TZID=UTC:20260331T183000
DTEND;TZID=UTC:20260331T203000
DTSTAMP:20260423T144544
CREATED:20251219T154927Z
LAST-MODIFIED:20260323T181047Z
UID:10001668-1774981800-1774989000@fsa1.com
SUMMARY:Taxes in Retirement at Louis' Chop House - Chesterfield\, MI
DESCRIPTION:Retirement Planning Workshop 				\n				\n										\n						\n									RESERVE YOUR SEAT HERE\n					\n					\n								\n				\n									Seating is limited! Reservations are required. 								\n				\n							\n			\n						\n		\n						\n				\n					Join a complimentary educational workshop designed to help you better understand how key retirement decisions work together. 				\n					\n		\n					\n		\n				\n						\n					\n			\n						\n					5th Tavern | May 19th & May 21st				\n				\n							\n					\n						\n					\n		\n				\n			\n						\n					Location				\n				\n									5th Tavern7228 N Main StVillage of Clarkston\, MI 48346 								\n				\n					Date & Time				\n				\n									Tuesday\, May 19th at 6:30 pmThursday\, May 21st at 6:30 pm 								\n					\n		\n					\n		\n				\n						\n					\n			\n						\n							\n						\n				\n					Sign Up Below				\n				\n							\n                \n                        CompanyThis field is for validation purposes and should be left unchanged.Name(Required)\n                            \n                            \n                                                    \n                                                    First\n                                                \n                            \n                            \n                                                    \n                                                    Last\n                                                \n                            \n                        Phone(Required)Email(Required)\n                            \n                        Zip Code(Required)Zip CodeSeminar Dates(Required)\n			\n					\n					Monday\, March 23rd at 6:30pm\n			\n			\n					\n					Wednesday\, March 25th at 6:30pm\n			Will you be bringing a guest?(Required)\n			\n					\n					Yes\n			\n			\n					\n					No\n			Relationship\n			\n					\n					Spouse / Significant Other\n			\n			\n					\n					Family Member / Friend / Colleague\n			Guest Name\n                            \n                            \n                                                    \n                                                    First\n                                                \n                            \n                            \n                                                    \n                                                    Last
URL:https://fsa1.com/louischophouse
LOCATION:Louis’ Chop House\, 50355 Gratiot Ave\, Chesterfield\, MI\, 48051
CATEGORIES:Seminar
ATTACH;FMTTYPE=image/jpeg:https://fsa1.com/wp-content/uploads/2023/10/louis-chop-house-586-949-9566htm-e1697149656803.jpg
END:VEVENT
END:VCALENDAR